BEGIN:VCALENDAR
VERSION:2.0
PRODID:-//Foothills K9 Association - ECPv6.15.20//NONSGML v1.0//EN
CALSCALE:GREGORIAN
METHOD:PUBLISH
X-ORIGINAL-URL:https://foothillsk9.org
X-WR-CALDESC:Events for Foothills K9 Association
REFRESH-INTERVAL;VALUE=DURATION:PT1H
X-Robots-Tag:noindex
X-PUBLISHED-TTL:PT1H
BEGIN:VTIMEZONE
TZID:America/Denver
BEGIN:DAYLIGHT
TZOFFSETFROM:-0700
TZOFFSETTO:-0600
TZNAME:MDT
DTSTART:20150308T090000
END:DAYLIGHT
BEGIN:STANDARD
TZOFFSETFROM:-0600
TZOFFSETTO:-0700
TZNAME:MST
DTSTART:20151101T080000
END:STANDARD
BEGIN:DAYLIGHT
TZOFFSETFROM:-0700
TZOFFSETTO:-0600
TZNAME:MDT
DTSTART:20160313T090000
END:DAYLIGHT
BEGIN:STANDARD
TZOFFSETFROM:-0600
TZOFFSETTO:-0700
TZNAME:MST
DTSTART:20161106T080000
END:STANDARD
BEGIN:DAYLIGHT
TZOFFSETFROM:-0700
TZOFFSETTO:-0600
TZNAME:MDT
DTSTART:20170312T090000
END:DAYLIGHT
BEGIN:STANDARD
TZOFFSETFROM:-0600
TZOFFSETTO:-0700
TZNAME:MST
DTSTART:20171105T080000
END:STANDARD
BEGIN:DAYLIGHT
TZOFFSETFROM:-0700
TZOFFSETTO:-0600
TZNAME:MDT
DTSTART:20180311T090000
END:DAYLIGHT
BEGIN:STANDARD
TZOFFSETFROM:-0600
TZOFFSETTO:-0700
TZNAME:MST
DTSTART:20181104T080000
END:STANDARD
BEGIN:DAYLIGHT
TZOFFSETFROM:-0700
TZOFFSETTO:-0600
TZNAME:MDT
DTSTART:20190310T090000
END:DAYLIGHT
BEGIN:STANDARD
TZOFFSETFROM:-0600
TZOFFSETTO:-0700
TZNAME:MST
DTSTART:20191103T080000
END:STANDARD
BEGIN:DAYLIGHT
TZOFFSETFROM:-0700
TZOFFSETTO:-0600
TZNAME:MDT
DTSTART:20200308T090000
END:DAYLIGHT
BEGIN:STANDARD
TZOFFSETFROM:-0600
TZOFFSETTO:-0700
TZNAME:MST
DTSTART:20201101T080000
END:STANDARD
BEGIN:DAYLIGHT
TZOFFSETFROM:-0700
TZOFFSETTO:-0600
TZNAME:MDT
DTSTART:20210314T090000
END:DAYLIGHT
BEGIN:STANDARD
TZOFFSETFROM:-0600
TZOFFSETTO:-0700
TZNAME:MST
DTSTART:20211107T080000
END:STANDARD
BEGIN:DAYLIGHT
TZOFFSETFROM:-0700
TZOFFSETTO:-0600
TZNAME:MDT
DTSTART:20220313T090000
END:DAYLIGHT
BEGIN:STANDARD
TZOFFSETFROM:-0600
TZOFFSETTO:-0700
TZNAME:MST
DTSTART:20221106T080000
END:STANDARD
BEGIN:DAYLIGHT
TZOFFSETFROM:-0700
TZOFFSETTO:-0600
TZNAME:MDT
DTSTART:20230312T090000
END:DAYLIGHT
BEGIN:STANDARD
TZOFFSETFROM:-0600
TZOFFSETTO:-0700
TZNAME:MST
DTSTART:20231105T080000
END:STANDARD
BEGIN:DAYLIGHT
TZOFFSETFROM:-0700
TZOFFSETTO:-0600
TZNAME:MDT
DTSTART:20240310T090000
END:DAYLIGHT
BEGIN:STANDARD
TZOFFSETFROM:-0600
TZOFFSETTO:-0700
TZNAME:MST
DTSTART:20241103T080000
END:STANDARD
BEGIN:DAYLIGHT
TZOFFSETFROM:-0700
TZOFFSETTO:-0600
TZNAME:MDT
DTSTART:20250309T090000
END:DAYLIGHT
BEGIN:STANDARD
TZOFFSETFROM:-0600
TZOFFSETTO:-0700
TZNAME:MST
DTSTART:20251102T080000
END:STANDARD
END:VTIMEZONE
BEGIN:VEVENT
DTSTART;TZID=America/Denver:20240915T180000
DTEND;TZID=America/Denver:20240915T200000
DTSTAMP:20260425T060653
CREATED:20240416T013902Z
LAST-MODIFIED:20240424T181114Z
UID:5564-1726423200-1726430400@foothillsk9.org
SUMMARY:Foothills K9 Comedy Night 2024
DESCRIPTION:Join us for an evening filled with laughter and wagging tails at the Foothills K9 Comedy Night! This special event is dedicated to celebrating the bond between K9s and their human companions while supporting the Foothills K9 Association. \nNEW DATE! SEPTEMBER 15\, 2024! Time: 6:00 PM Location: Laughs Unlimited \nPrepare to be entertained by our lineup of comedians who are sure to tickle your funny bone. Don’t miss out on the chance to see our talented K9 officers in action\, showcasing their skills and the incredible work they do. \nThe night will also feature: \n\nA meet and greet with our K9 heroes\nA photo opportunity with the K9 officers\nA silent auction with exclusive K9 memorabilia\n\nAll proceeds from the event go directly to the Foothills K9 Association\, aiding in the care and training of K9 units. \nGet your tickets now by scanning the QR code on the flyer or email us at info@foothillsk9.org. \nCome laugh with us and support these amazing four-legged officers and their handlers!
URL:https://foothillsk9.org/event/foothills-k9-comedy-night-2024/
LOCATION:Laugh’s Unlimited\, 1207 Front St\, Sacramento\, 95814
CATEGORIES:Fund Raiser,Local Event
ATTACH;FMTTYPE=image/jpeg:https://foothillsk9.org/wp-content/uploads/sites/10/2024/04/IMG_2755.jpg
END:VEVENT
BEGIN:VEVENT
DTSTART;TZID=America/Denver:20180429T190000
DTEND;TZID=America/Denver:20180429T220000
DTSTAMP:20260425T060653
CREATED:20180320T175041Z
LAST-MODIFIED:20180320T175222Z
UID:4881-1525028400-1525039200@foothillsk9.org
SUMMARY:2018 Foothills K9 Comedy Night
DESCRIPTION:An evening of fun and laughter benefitting our K9s. Tickets to this event sell out fast so save the date!
URL:https://foothillsk9.org/event/2018-foothills-k9-comedy-night/
LOCATION:Laugh’s Unlimited\, 1207 Front St\, Sacramento\, 95814
CATEGORIES:Fund Raiser,Local Event
ATTACH;FMTTYPE=image/jpeg:https://foothillsk9.org/wp-content/uploads/sites/10/2018/03/29472179_1830691663637306_631727626964172800_n.jpg
END:VEVENT
BEGIN:VEVENT
DTSTART;TZID=America/Denver:20170423T190000
DTEND;TZID=America/Denver:20170423T220000
DTSTAMP:20260425T060653
CREATED:20170208T193142Z
LAST-MODIFIED:20170208T193144Z
UID:4848-1492974000-1492984800@foothillsk9.org
SUMMARY:2017 Foothills K9 Comedy Night
DESCRIPTION:An evening of fun and laughter benefitting our K9s. Tickets to this event sell out fast so save the date!
URL:https://foothillsk9.org/event/2017-foothills-k9-comedy-night/
LOCATION:Laugh’s Unlimited\, 1207 Front St\, Sacramento\, 95814
CATEGORIES:Fund Raiser,Local Event
ATTACH;FMTTYPE=image/jpeg:https://foothillsk9.org/wp-content/uploads/sites/10/2017/02/FHK9-Poster.jpg
END:VEVENT
BEGIN:VEVENT
DTSTART;TZID=America/Denver:20160806T100000
DTEND;TZID=America/Denver:20160806T170000
DTSTAMP:20260425T060653
CREATED:20160711T184413Z
LAST-MODIFIED:20160711T184449Z
UID:4822-1470477600-1470502800@foothillsk9.org
SUMMARY:Vacaville Police K9 Trial Competition
DESCRIPTION:If you are looking for something to do on August 6th\, 2016\, look no further! Join us for the Annual 2016 Vacaville Police “Top Dog” K-9 Trial Competition. This event will feature K9 teams from all over Northern California eager to compete in exciting events ranging from biting imaginary criminals dressed in a bite suit\, to scaling walls\, and obstacle courses. You won’t want to miss your chance to meet the competitors\, participate in on-site activities\, vendor booths (both food and memorabilia booths)\, raffles\, and more! \nGrab a lawn chair and bring the whole family!
URL:https://foothillsk9.org/event/vacaville-k9-trial/
LOCATION:Nelson Park\, 1800 Marshall Road\, Vacaville\, CA\, 95687\, United States
CATEGORIES:Fund Raiser,Local Event
ATTACH;FMTTYPE=image/jpeg:https://foothillsk9.org/wp-content/uploads/sites/10/2016/07/k9trial-flyer.jpg
END:VEVENT
BEGIN:VEVENT
DTSTART;VALUE=DATE:20160716
DTEND;VALUE=DATE:20160718
DTSTAMP:20260425T060653
CREATED:20160711T182632Z
LAST-MODIFIED:20160711T182632Z
UID:4820-1468627200-1468799999@foothillsk9.org
SUMMARY:Cover Your K-9 Pet Wash Fundraiser - Davis
DESCRIPTION:Come to Pet Food Express in Roseville or Davis and join us during our fun Pet Wash Fundraiser on July 16th & 17th! Don’t forget to show your appreciation and support for Pet Food Express\, our dear friends and partners in crime-fighting. \nFoothills K9 Teams will be present at both Roseville & Davis stores. This event is supported and appreciated by Foothills K9 and all who they represent.
URL:https://foothillsk9.org/event/cover-k-9-2/
LOCATION:Pet Food Express – Davis\, 2171 Cowell Blvd\, Davis\, CA\, 95618\, United States
CATEGORIES:Fund Raiser,Local Event
ATTACH;FMTTYPE=image/jpeg:https://foothillsk9.org/wp-content/uploads/sites/10/2016/07/IMG_6453.jpg
END:VEVENT
BEGIN:VEVENT
DTSTART;VALUE=DATE:20160716
DTEND;VALUE=DATE:20160718
DTSTAMP:20260425T060653
CREATED:20160711T182006Z
LAST-MODIFIED:20160711T182405Z
UID:4814-1468627200-1468799999@foothillsk9.org
SUMMARY:Cover Your K-9 Pet Wash Fundraiser - Roseville
DESCRIPTION:Come to Pet Food Express in Roseville or Davis and join us during our fun Pet Wash Fundraiser on July 16th & 17th! Don’t forget to show your appreciation and support for Pet Food Express\, our dear friends and partners in crime-fighting. \nFoothills K9 Teams will be present at both Roseville & Davis stores. This event is supported and appreciated by Foothills K9 and all who they represent.
URL:https://foothillsk9.org/event/cover-k-9/
LOCATION:Pet Foot Express\, 1009 Galleria Blvd\, Roseville\, CA\, 95678\, United States
CATEGORIES:Fund Raiser,Local Event
ATTACH;FMTTYPE=image/jpeg:https://foothillsk9.org/wp-content/uploads/sites/10/2016/07/IMG_6453.jpg
END:VEVENT
BEGIN:VEVENT
DTSTART;VALUE=DATE:20160128
DTEND;VALUE=DATE:20160201
DTSTAMP:20260425T060653
CREATED:20160127T175938Z
LAST-MODIFIED:20160127T175948Z
UID:4482-1453939200-1454284799@foothillsk9.org
SUMMARY:Moe's Grand Opening
DESCRIPTION:Moe’s needs your help raising funding for K9 King. Foothills K9 will be there with K9 King on Saturday & Sunday (January 30th & 31st).  \nThe event starts Thursday\, January 28th\, 2016 with $5 Entrees. Then again on Saturday and Sunday\, January 30th and 31st with K9 King onsite along with Foothills K9 representatives. This is going to be a fun time with a lot of great photo opportunities for your family and all for a cause worth supporting.
URL:https://foothillsk9.org/event/4482/
LOCATION:Moe’s\, 998 Sunrise Ave.\, Roseville\, CA\, 95661\, United States
CATEGORIES:Fund Raiser,Local Event
ATTACH;FMTTYPE=image/jpeg:https://foothillsk9.org/wp-content/uploads/sites/10/2016/01/IMG_1438.jpg
END:VEVENT
END:VCALENDAR